BEGIN:VCALENDAR
VERSION:2.0
PRODID:-//Squarespace Inc/Squarespace 6//v6//EN
BEGIN:VEVENT
UID:5a84cb3d8165f5ac7e971071@squarespace.com
DTSTAMP:20180214T235409Z
DTSTART:20180320T080000Z
DTEND:20180320T100000Z
SUMMARY:Governing Council meeting
END:VEVENT
END:VCALENDAR
