BEGIN:VCALENDAR
VERSION:2.0
PRODID:-//Squarespace Inc/Squarespace 6//v6//EN
BEGIN:VEVENT
UID:5a94b2aa8165f5178734fb5f@squarespace.com
DTSTAMP:20180227T012549Z
DTSTART:20180314T223000Z
DTEND:20180315T013000Z
SUMMARY:Volunteer & RAN training
END:VEVENT
END:VCALENDAR
