BEGIN:VCALENDAR
VERSION:2.0
PRODID:-//Squarespace Inc/Squarespace 6//v6//EN
BEGIN:VEVENT
UID:5a8237b724a694bfb7befc09@squarespace.com
DTSTAMP:20180219T233400Z
DTSTART:20180227T080000Z
DTEND:20180227T100000Z
SUMMARY:MVPS AGM
END:VEVENT
END:VCALENDAR
