BEGIN:VCALENDAR
VERSION:2.0
PRODID:-//Squarespace Inc/Squarespace 6//v6//EN
BEGIN:VEVENT
UID:5a82365871c10b350842d1ae@squarespace.com
DTSTAMP:20180213T005553Z
DTSTART:20180213T070000Z
DTEND:20180213T083000Z
SUMMARY:Acquaintance Night
END:VEVENT
END:VCALENDAR
