BEGIN:VCALENDAR
VERSION:2.0
PRODID:-//Squarespace Inc/Squarespace 6//v6//EN
BEGIN:VEVENT
UID:5bc56e70f4e1fca3c275aa5f@squarespace.com
DTSTAMP:20181016T045221Z
DTSTART:20181030T080000Z
DTEND:20181030T093000Z
SUMMARY:Governing Council Meeting
END:VEVENT
END:VCALENDAR
