BEGIN:VCALENDAR
VERSION:2.0
PRODID:-//Squarespace Inc/Squarespace 6//v6//EN
BEGIN:VEVENT
UID:5bc6c577eef1a12e14c5280a@squarespace.com
DTSTAMP:20181017T051808Z
DTSTART:20181023T222000Z
DTEND:20181026T043500Z
SUMMARY:ATSI Camp
END:VEVENT
END:VCALENDAR
