BEGIN:VCALENDAR
VERSION:2.0
PRODID:-//Squarespace Inc/Squarespace 6//v6//EN
BEGIN:VEVENT
UID:5aceb41388251b82791c549e@squarespace.com
DTSTAMP:20180412T011945Z
DTSTART:20181014T222000Z
DTEND:20181015T043500Z
SUMMARY:First day Term 4
END:VEVENT
END:VCALENDAR
