BEGIN:VCALENDAR
VERSION:2.0
PRODID:-//Squarespace Inc/Squarespace 6//v6//EN
BEGIN:VEVENT
UID:59b9eddaa9db092ca99153ff@squarespace.com
DTSTAMP:20170914T030648Z
DTSTART:20170919T073000Z
DTEND:20170919T090000Z
SUMMARY:Open Night
END:VEVENT
END:VCALENDAR
