BEGIN:VCALENDAR
VERSION:2.0
PRODID:-//Squarespace Inc/Squarespace 6//v6//EN
BEGIN:VEVENT
UID:59fc3cdeec212ddcfe64811c@squarespace.com
DTSTAMP:20171103T095653Z
DTSTART:20171117T031500Z
DTEND:20171117T041500Z
SUMMARY:School Colour Run Fundraiser
END:VEVENT
END:VCALENDAR
