BEGIN:VCALENDAR
VERSION:2.0
PRODID:-//Squarespace Inc/Squarespace 6//v6//EN
BEGIN:VEVENT
UID:59bbbe51be42d609bf67373e@squarespace.com
DTSTAMP:20170915T115205Z
DTSTART:20171015T222000Z
DTEND:20171016T112000Z
SUMMARY:Student Free Day
END:VEVENT
END:VCALENDAR
